BEGIN:VCALENDAR
VERSION:2.0
PRODID:-//Philomèle - ECPv4.7.4//NONSGML v1.0//EN
CALSCALE:GREGORIAN
METHOD:PUBLISH
X-WR-CALNAME:Philomèle
X-ORIGINAL-URL:https://www.philomele.org
X-WR-CALDESC:Évènements pour Philomèle
BEGIN:VEVENT
DTSTART;TZID=Europe/Paris:20240511T150000
DTEND;TZID=Europe/Paris:20240512T010000
DTSTAMP:20260424T193437
CREATED:20240501T154735Z
LAST-MODIFIED:20240501T154735Z
UID:1041-1715439600-1715475600@www.philomele.org
SUMMARY:BAL FOLK LE 11 MAI 2024 A MESCHERS
DESCRIPTION:Rendez-vous avec Philomèle \nSamedi 11 Mai 2024 à la salle “La Passerelle” de MESCHERS\nL’association des amis de Meschers vous accueillera de 15 à 17h  pour un stage d’initiation de danses Traditionnelles avec Jean-Pierre \ns’en suivra d’un bal à partir de 21h00. \nNous vous attendons nombreux 🤩 \n  \n
URL:https://www.philomele.org/evenement/bal-folk-le-11-mai-2024-a-meschers/
ATTACH;FMTTYPE=image/jpeg:https://www.philomele.org/wp-content/uploads/AFFICHE-BAL-MESCHERS-11-05-2024.jpg
END:VEVENT
END:VCALENDAR