BEGIN:VCALENDAR
VERSION:2.0
PRODID:-//Philomèle - ECPv4.7.4//NONSGML v1.0//EN
CALSCALE:GREGORIAN
METHOD:PUBLISH
X-WR-CALNAME:Philomèle
X-ORIGINAL-URL:https://www.philomele.org
X-WR-CALDESC:Évènements pour Philomèle
BEGIN:VEVENT
DTSTART;TZID=Europe/Paris:20250802T210000
DTEND;TZID=Europe/Paris:20250802T210000
DTSTAMP:20260421T185313
CREATED:20250726T132347Z
LAST-MODIFIED:20250726T132750Z
UID:1077-1754168400-1754168400@www.philomele.org
SUMMARY:BAL FOLK SAINT SATURNIN DU BOIS (17)
DESCRIPTION:Bonjour amis danseurs\, \npour celles et ceux qui ne sont pas partis en vacances ou sur les planchers de festivals\, n’oubliez pas que Philomèle joue à Saint Saturnin du Bois (17) dans le Tiers lieu de la Motte Aubert. \nNous vous attendons très nombreux !\nA très vite et bel été \n \n
URL:https://www.philomele.org/evenement/bal-folk-saint-saturnin-du-bois-17/
END:VEVENT
END:VCALENDAR