BEGIN:VCALENDAR
VERSION:2.0
PRODID:-//Philomèle - ECPv4.7.4//NONSGML v1.0//EN
CALSCALE:GREGORIAN
METHOD:PUBLISH
X-WR-CALNAME:Philomèle
X-ORIGINAL-URL:https://www.philomele.org
X-WR-CALDESC:Évènements pour Philomèle
BEGIN:VEVENT
DTSTART;VALUE=DATE:20251108
DTEND;VALUE=DATE:20251110
DTSTAMP:20260421T144647
CREATED:20250706T102842Z
LAST-MODIFIED:20250708T185200Z
UID:1069-1762560000-1762732799@www.philomele.org
SUMMARY:FOLK EN FOLIE 2025
DESCRIPTION: \n7 ÈME EDITION FESTIVAL “FOLK EN FOLIE” les 8 et 9 novembre 2025   \n\nLe festival “FOLK EN FOLIE” est de retour pour sa 7ème édition les 8 et 9 novembre 2025. Venez nombreux nous rejoindre et faire la fête avec nous !\nAu cours de ces 2 jours de danses et musiques\, 6 groupes se succèderont pour le plus grand plaisir de tous.\nOrganisé par Philomèle et les Étournias\, FOLK EN FOLIE aura pour cadre l’excellente salle de l’Agora de Saint-Xandre près de La Rochelle qui résonnera à nouveau aux sons de la musique traditionnelle. Elle vibrera sous les pas endiablés ou tendres des danseurs de mazurkas\, de bourrées\, d’avant-deux ou autres cercles circassiens et encore bien d’autres danses… \nCe festival est devenu une référence dans la région Ouest grâce à la variété des groupes et de la musique qui y est jouée. \nVous y découvrirez les groupes suivant ; \nles 09 et 10 Novembre 2024 à l’AGORA  avec les groupes : Samedi de 20h a 2h00 : LES TOQUES\, PARASOL et Joaquim MONBORD\n\npour le dimanche de 19h a 1h00 : PHILOMELE\, A TABLE ARTHUR  et Septet de Rémi GEFFROY \n\nNous vous attendons nombreux !\n\nNous vous encourageons à réserver vos places sur HelloAsso :  https://www.helloasso.com/associations/les-etournias/evenements/festival-musiques-et-danses-traditionnelles \nPossibilité d’acheter sur place. \n\n\n\n\n\n\nSalle “L’AGORA” de St Xandre \nHORAIRES ET TARIFS DES BALS FOLK   : \nLE SAMEDI A PARTIR DE 20H ET LE DIMANCHE A PARTIR DE 19H\n\nTARIFS :\n\nNON ADHERENT :\nBAL : 1 jours 16€\nPASS COMPLET 2 jours 28€\n\n– 18 ANS : GRATUIT\n\nADHERENTS :\nBAL : 14€\nPASS COMPLET 2 jours 25€\n\n\n\n\n\n\nRenseignements : \nPhilomèle  06 84 19 54 07\,  philomele.org \nLes Etournias  06 06 41 44 30\, lesetournias.fr \n\n
URL:https://www.philomele.org/evenement/folk-en-folie-2025/
LOCATION:L’agora\, Impasse des Écoles\, Saint-Xandre\, 17138\, France
ORGANIZER;CN="PHILOMELE":MAILTO:mariellethierry5817@gmail.com
END:VEVENT
END:VCALENDAR