BEGIN:VCALENDAR
VERSION:2.0
PRODID:-//Philomèle - ECPv4.7.4//NONSGML v1.0//EN
CALSCALE:GREGORIAN
METHOD:PUBLISH
X-WR-CALNAME:Philomèle
X-ORIGINAL-URL:https://www.philomele.org
X-WR-CALDESC:Évènements pour Philomèle
BEGIN:VEVENT
DTSTART;TZID=Europe/Paris:20240503T190000
DTEND;TZID=Europe/Paris:20240503T203000
DTSTAMP:20260424T173829
CREATED:20240501T153521Z
LAST-MODIFIED:20240501T163123Z
UID:1036-1714762800-1714768200@www.philomele.org
SUMMARY:Guinguette La Rebelle La Rochelle
DESCRIPTION:Philomèle\nJoue à la Rebelle de la Rochelle ! \nvendredi 3 Mai de 19h00 à 20h30\nC’est gratuit !! \n❗Attention sur le programme de la Rebelle il y a une erreur\, l’horaire est bien à 19h00 et non 17h00 ❗ \nRetrouvez les informations de la Rebelle ici  \n  \n
URL:https://www.philomele.org/evenement/guinguette-la-rebelle-la-rochelle/
ATTACH;FMTTYPE=image/png:https://www.philomele.org/wp-content/uploads/Affichette-la-rebelle-2024.png
END:VEVENT
END:VCALENDAR